BEGIN:VCALENDAR
VERSION:2.0
PRODID:-//Landmark - ECPv6.15.20//NONSGML v1.0//EN
CALSCALE:GREGORIAN
METHOD:PUBLISH
X-ORIGINAL-URL:https://landmark.church
X-WR-CALDESC:Events for Landmark
REFRESH-INTERVAL;VALUE=DURATION:PT1H
X-Robots-Tag:noindex
X-PUBLISHED-TTL:PT1H
BEGIN:VTIMEZONE
TZID:America/Chicago
BEGIN:DAYLIGHT
TZOFFSETFROM:-0600
TZOFFSETTO:-0500
TZNAME:CDT
DTSTART:20250309T080000
END:DAYLIGHT
BEGIN:STANDARD
TZOFFSETFROM:-0500
TZOFFSETTO:-0600
TZNAME:CST
DTSTART:20251102T070000
END:STANDARD
BEGIN:DAYLIGHT
TZOFFSETFROM:-0600
TZOFFSETTO:-0500
TZNAME:CDT
DTSTART:20260308T080000
END:DAYLIGHT
BEGIN:STANDARD
TZOFFSETFROM:-0500
TZOFFSETTO:-0600
TZNAME:CST
DTSTART:20261101T070000
END:STANDARD
BEGIN:DAYLIGHT
TZOFFSETFROM:-0600
TZOFFSETTO:-0500
TZNAME:CDT
DTSTART:20270314T080000
END:DAYLIGHT
BEGIN:STANDARD
TZOFFSETFROM:-0500
TZOFFSETTO:-0600
TZNAME:CST
DTSTART:20271107T070000
END:STANDARD
BEGIN:DAYLIGHT
TZOFFSETFROM:-0600
TZOFFSETTO:-0500
TZNAME:CDT
DTSTART:20280312T080000
END:DAYLIGHT
BEGIN:STANDARD
TZOFFSETFROM:-0500
TZOFFSETTO:-0600
TZNAME:CST
DTSTART:20281105T070000
END:STANDARD
BEGIN:DAYLIGHT
TZOFFSETFROM:-0600
TZOFFSETTO:-0500
TZNAME:CDT
DTSTART:20290311T080000
END:DAYLIGHT
BEGIN:STANDARD
TZOFFSETFROM:-0500
TZOFFSETTO:-0600
TZNAME:CST
DTSTART:20291104T070000
END:STANDARD
END:VTIMEZONE
BEGIN:VEVENT
DTSTART;TZID=America/Chicago:20260407T070000
DTEND;TZID=America/Chicago:20260407T083000
DTSTAMP:20260422T170138
CREATED:20250423T194803Z
LAST-MODIFIED:20260221T175413Z
UID:10000207-1775545200-1775550600@landmark.church
SUMMARY:In His Presence
DESCRIPTION:The first Tuesday of each month\, from 7:00 to 8:30\, we’ll gather in the worship center for In His Presence—a quiet time to simply rest before the Lord. There’s no program\, no pressure—just space to be still\, pray\, and listen for His voice. Come and go as you need.
URL:https://landmark.church/event/in-his-presence-2/2026-04-07/
LOCATION:Landmark Church\, 1800 Halcyon Blvd\, Montgomery\, AL\, 36117\, United States
CATEGORIES:Online Lifelines
ATTACH;FMTTYPE=image/png:https://landmark.church/wp-content/uploads/2025/04/Yellow-and-White-Bold-Church-Service-Instagram-Post-1500-x-1500-px-4-x-3-in.png
END:VEVENT
BEGIN:VEVENT
DTSTART;TZID=America/Chicago:20260425T090000
DTEND;TZID=America/Chicago:20260425T120000
DTSTAMP:20260422T170138
CREATED:20260221T194303Z
LAST-MODIFIED:20260221T194303Z
UID:10000202-1777107600-1777118400@landmark.church
SUMMARY:Love the City
DESCRIPTION:SATURDAY\, April 25 (9am-12pm) This will be an incredible day of serving our community and supporting ministries that make a difference every single week. There’s a place for everyone to jump in and be part of it!
URL:https://landmark.church/event/love-the-city/
LOCATION:AL
CATEGORIES:Online Lifelines
ATTACH;FMTTYPE=image/webp:https://landmark.church/wp-content/uploads/2026/02/Alt-6.webp
END:VEVENT
BEGIN:VEVENT
DTSTART;TZID=America/Chicago:20260505T070000
DTEND;TZID=America/Chicago:20260505T083000
DTSTAMP:20260422T170138
CREATED:20250423T194803Z
LAST-MODIFIED:20260221T175413Z
UID:10000208-1777964400-1777969800@landmark.church
SUMMARY:In His Presence
DESCRIPTION:The first Tuesday of each month\, from 7:00 to 8:30\, we’ll gather in the worship center for In His Presence—a quiet time to simply rest before the Lord. There’s no program\, no pressure—just space to be still\, pray\, and listen for His voice. Come and go as you need.
URL:https://landmark.church/event/in-his-presence-2/2026-05-05/
LOCATION:Landmark Church\, 1800 Halcyon Blvd\, Montgomery\, AL\, 36117\, United States
CATEGORIES:Online Lifelines
ATTACH;FMTTYPE=image/png:https://landmark.church/wp-content/uploads/2025/04/Yellow-and-White-Bold-Church-Service-Instagram-Post-1500-x-1500-px-4-x-3-in.png
END:VEVENT
BEGIN:VEVENT
DTSTART;TZID=America/Chicago:20260602T070000
DTEND;TZID=America/Chicago:20260602T083000
DTSTAMP:20260422T170138
CREATED:20250423T194803Z
LAST-MODIFIED:20260221T175413Z
UID:10000209-1780383600-1780389000@landmark.church
SUMMARY:In His Presence
DESCRIPTION:The first Tuesday of each month\, from 7:00 to 8:30\, we’ll gather in the worship center for In His Presence—a quiet time to simply rest before the Lord. There’s no program\, no pressure—just space to be still\, pray\, and listen for His voice. Come and go as you need.
URL:https://landmark.church/event/in-his-presence-2/2026-06-02/
LOCATION:Landmark Church\, 1800 Halcyon Blvd\, Montgomery\, AL\, 36117\, United States
CATEGORIES:Online Lifelines
ATTACH;FMTTYPE=image/png:https://landmark.church/wp-content/uploads/2025/04/Yellow-and-White-Bold-Church-Service-Instagram-Post-1500-x-1500-px-4-x-3-in.png
END:VEVENT
BEGIN:VEVENT
DTSTART;TZID=America/Chicago:20260707T070000
DTEND;TZID=America/Chicago:20260707T083000
DTSTAMP:20260422T170138
CREATED:20250423T194803Z
LAST-MODIFIED:20260221T175413Z
UID:10000210-1783407600-1783413000@landmark.church
SUMMARY:In His Presence
DESCRIPTION:The first Tuesday of each month\, from 7:00 to 8:30\, we’ll gather in the worship center for In His Presence—a quiet time to simply rest before the Lord. There’s no program\, no pressure—just space to be still\, pray\, and listen for His voice. Come and go as you need.
URL:https://landmark.church/event/in-his-presence-2/2026-07-07/
LOCATION:Landmark Church\, 1800 Halcyon Blvd\, Montgomery\, AL\, 36117\, United States
CATEGORIES:Online Lifelines
ATTACH;FMTTYPE=image/png:https://landmark.church/wp-content/uploads/2025/04/Yellow-and-White-Bold-Church-Service-Instagram-Post-1500-x-1500-px-4-x-3-in.png
END:VEVENT
BEGIN:VEVENT
DTSTART;TZID=America/Chicago:20260804T070000
DTEND;TZID=America/Chicago:20260804T083000
DTSTAMP:20260422T170138
CREATED:20250423T194803Z
LAST-MODIFIED:20260221T175413Z
UID:10000211-1785826800-1785832200@landmark.church
SUMMARY:In His Presence
DESCRIPTION:The first Tuesday of each month\, from 7:00 to 8:30\, we’ll gather in the worship center for In His Presence—a quiet time to simply rest before the Lord. There’s no program\, no pressure—just space to be still\, pray\, and listen for His voice. Come and go as you need.
URL:https://landmark.church/event/in-his-presence-2/2026-08-04/
LOCATION:Landmark Church\, 1800 Halcyon Blvd\, Montgomery\, AL\, 36117\, United States
CATEGORIES:Online Lifelines
ATTACH;FMTTYPE=image/png:https://landmark.church/wp-content/uploads/2025/04/Yellow-and-White-Bold-Church-Service-Instagram-Post-1500-x-1500-px-4-x-3-in.png
END:VEVENT
BEGIN:VEVENT
DTSTART;TZID=America/Chicago:20260901T070000
DTEND;TZID=America/Chicago:20260901T083000
DTSTAMP:20260422T170138
CREATED:20250423T194803Z
LAST-MODIFIED:20260221T175413Z
UID:10000212-1788246000-1788251400@landmark.church
SUMMARY:In His Presence
DESCRIPTION:The first Tuesday of each month\, from 7:00 to 8:30\, we’ll gather in the worship center for In His Presence—a quiet time to simply rest before the Lord. There’s no program\, no pressure—just space to be still\, pray\, and listen for His voice. Come and go as you need.
URL:https://landmark.church/event/in-his-presence-2/2026-09-01/
LOCATION:Landmark Church\, 1800 Halcyon Blvd\, Montgomery\, AL\, 36117\, United States
CATEGORIES:Online Lifelines
ATTACH;FMTTYPE=image/png:https://landmark.church/wp-content/uploads/2025/04/Yellow-and-White-Bold-Church-Service-Instagram-Post-1500-x-1500-px-4-x-3-in.png
END:VEVENT
BEGIN:VEVENT
DTSTART;TZID=America/Chicago:20261006T070000
DTEND;TZID=America/Chicago:20261006T083000
DTSTAMP:20260422T170138
CREATED:20250423T194803Z
LAST-MODIFIED:20260221T175413Z
UID:10000213-1791270000-1791275400@landmark.church
SUMMARY:In His Presence
DESCRIPTION:The first Tuesday of each month\, from 7:00 to 8:30\, we’ll gather in the worship center for In His Presence—a quiet time to simply rest before the Lord. There’s no program\, no pressure—just space to be still\, pray\, and listen for His voice. Come and go as you need.
URL:https://landmark.church/event/in-his-presence-2/2026-10-06/
LOCATION:Landmark Church\, 1800 Halcyon Blvd\, Montgomery\, AL\, 36117\, United States
CATEGORIES:Online Lifelines
ATTACH;FMTTYPE=image/png:https://landmark.church/wp-content/uploads/2025/04/Yellow-and-White-Bold-Church-Service-Instagram-Post-1500-x-1500-px-4-x-3-in.png
END:VEVENT
BEGIN:VEVENT
DTSTART;TZID=America/Chicago:20261028T180000
DTEND;TZID=America/Chicago:20261028T200000
DTSTAMP:20260422T170138
CREATED:20250423T200225Z
LAST-MODIFIED:20260223T163450Z
UID:10000186-1793210400-1793217600@landmark.church
SUMMARY:Trunk or Treat
DESCRIPTION:Trunk or Treat is coming up Wednesday night\, October 28\, from 6:30 to 8:00 in the Landmark parking lot! This is always a huge community outreach for our church. You can help by purchasing a couple of big bags of candy and/or decorating a trunk. Hot dogs\, chips and bottled water will be available. It will be a fun night for the entire family!
URL:https://landmark.church/event/trunk-or-treat-2/
LOCATION:Landmark Church\, 1800 Halcyon Blvd\, Montgomery\, AL\, 36117\, United States
CATEGORIES:Online Lifelines
ATTACH;FMTTYPE=image/jpeg:https://landmark.church/wp-content/uploads/2025/04/Purple-Orange-Illustration-Trick-Or-Treat-Halloween-Instagram-Story-4-x-3-in-11-x-8.5-in-4-x-3-in-3.jpg
END:VEVENT
BEGIN:VEVENT
DTSTART;TZID=America/Chicago:20261103T070000
DTEND;TZID=America/Chicago:20261103T083000
DTSTAMP:20260422T170138
CREATED:20250423T194803Z
LAST-MODIFIED:20260221T175413Z
UID:10000214-1793689200-1793694600@landmark.church
SUMMARY:In His Presence
DESCRIPTION:The first Tuesday of each month\, from 7:00 to 8:30\, we’ll gather in the worship center for In His Presence—a quiet time to simply rest before the Lord. There’s no program\, no pressure—just space to be still\, pray\, and listen for His voice. Come and go as you need.
URL:https://landmark.church/event/in-his-presence-2/2026-11-03/
LOCATION:Landmark Church\, 1800 Halcyon Blvd\, Montgomery\, AL\, 36117\, United States
CATEGORIES:Online Lifelines
ATTACH;FMTTYPE=image/png:https://landmark.church/wp-content/uploads/2025/04/Yellow-and-White-Bold-Church-Service-Instagram-Post-1500-x-1500-px-4-x-3-in.png
END:VEVENT
BEGIN:VEVENT
DTSTART;TZID=America/Chicago:20261201T070000
DTEND;TZID=America/Chicago:20261201T083000
DTSTAMP:20260422T170138
CREATED:20250423T194803Z
LAST-MODIFIED:20260221T175413Z
UID:10000215-1796108400-1796113800@landmark.church
SUMMARY:In His Presence
DESCRIPTION:The first Tuesday of each month\, from 7:00 to 8:30\, we’ll gather in the worship center for In His Presence—a quiet time to simply rest before the Lord. There’s no program\, no pressure—just space to be still\, pray\, and listen for His voice. Come and go as you need.
URL:https://landmark.church/event/in-his-presence-2/2026-12-01/
LOCATION:Landmark Church\, 1800 Halcyon Blvd\, Montgomery\, AL\, 36117\, United States
CATEGORIES:Online Lifelines
ATTACH;FMTTYPE=image/png:https://landmark.church/wp-content/uploads/2025/04/Yellow-and-White-Bold-Church-Service-Instagram-Post-1500-x-1500-px-4-x-3-in.png
END:VEVENT
BEGIN:VEVENT
DTSTART;TZID=America/Chicago:20270105T070000
DTEND;TZID=America/Chicago:20270105T083000
DTSTAMP:20260422T170138
CREATED:20250423T194803Z
LAST-MODIFIED:20260221T175413Z
UID:10000216-1799132400-1799137800@landmark.church
SUMMARY:In His Presence
DESCRIPTION:The first Tuesday of each month\, from 7:00 to 8:30\, we’ll gather in the worship center for In His Presence—a quiet time to simply rest before the Lord. There’s no program\, no pressure—just space to be still\, pray\, and listen for His voice. Come and go as you need.
URL:https://landmark.church/event/in-his-presence-2/2027-01-05/
LOCATION:Landmark Church\, 1800 Halcyon Blvd\, Montgomery\, AL\, 36117\, United States
CATEGORIES:Online Lifelines
ATTACH;FMTTYPE=image/png:https://landmark.church/wp-content/uploads/2025/04/Yellow-and-White-Bold-Church-Service-Instagram-Post-1500-x-1500-px-4-x-3-in.png
END:VEVENT
BEGIN:VEVENT
DTSTART;TZID=America/Chicago:20270202T070000
DTEND;TZID=America/Chicago:20270202T083000
DTSTAMP:20260422T170138
CREATED:20250423T194803Z
LAST-MODIFIED:20260221T175413Z
UID:10000217-1801551600-1801557000@landmark.church
SUMMARY:In His Presence
DESCRIPTION:The first Tuesday of each month\, from 7:00 to 8:30\, we’ll gather in the worship center for In His Presence—a quiet time to simply rest before the Lord. There’s no program\, no pressure—just space to be still\, pray\, and listen for His voice. Come and go as you need.
URL:https://landmark.church/event/in-his-presence-2/2027-02-02/
LOCATION:Landmark Church\, 1800 Halcyon Blvd\, Montgomery\, AL\, 36117\, United States
CATEGORIES:Online Lifelines
ATTACH;FMTTYPE=image/png:https://landmark.church/wp-content/uploads/2025/04/Yellow-and-White-Bold-Church-Service-Instagram-Post-1500-x-1500-px-4-x-3-in.png
END:VEVENT
BEGIN:VEVENT
DTSTART;TZID=America/Chicago:20270302T070000
DTEND;TZID=America/Chicago:20270302T083000
DTSTAMP:20260422T170138
CREATED:20250423T194803Z
LAST-MODIFIED:20260221T175413Z
UID:10000218-1803970800-1803976200@landmark.church
SUMMARY:In His Presence
DESCRIPTION:The first Tuesday of each month\, from 7:00 to 8:30\, we’ll gather in the worship center for In His Presence—a quiet time to simply rest before the Lord. There’s no program\, no pressure—just space to be still\, pray\, and listen for His voice. Come and go as you need.
URL:https://landmark.church/event/in-his-presence-2/2027-03-02/
LOCATION:Landmark Church\, 1800 Halcyon Blvd\, Montgomery\, AL\, 36117\, United States
CATEGORIES:Online Lifelines
ATTACH;FMTTYPE=image/png:https://landmark.church/wp-content/uploads/2025/04/Yellow-and-White-Bold-Church-Service-Instagram-Post-1500-x-1500-px-4-x-3-in.png
END:VEVENT
BEGIN:VEVENT
DTSTART;TZID=America/Chicago:20270406T070000
DTEND;TZID=America/Chicago:20270406T083000
DTSTAMP:20260422T170138
CREATED:20250423T194803Z
LAST-MODIFIED:20260221T175413Z
UID:10000219-1806994800-1807000200@landmark.church
SUMMARY:In His Presence
DESCRIPTION:The first Tuesday of each month\, from 7:00 to 8:30\, we’ll gather in the worship center for In His Presence—a quiet time to simply rest before the Lord. There’s no program\, no pressure—just space to be still\, pray\, and listen for His voice. Come and go as you need.
URL:https://landmark.church/event/in-his-presence-2/2027-04-06/
LOCATION:Landmark Church\, 1800 Halcyon Blvd\, Montgomery\, AL\, 36117\, United States
CATEGORIES:Online Lifelines
ATTACH;FMTTYPE=image/png:https://landmark.church/wp-content/uploads/2025/04/Yellow-and-White-Bold-Church-Service-Instagram-Post-1500-x-1500-px-4-x-3-in.png
END:VEVENT
BEGIN:VEVENT
DTSTART;TZID=America/Chicago:20270504T070000
DTEND;TZID=America/Chicago:20270504T083000
DTSTAMP:20260422T170138
CREATED:20250423T194803Z
LAST-MODIFIED:20260221T175413Z
UID:10000220-1809414000-1809419400@landmark.church
SUMMARY:In His Presence
DESCRIPTION:The first Tuesday of each month\, from 7:00 to 8:30\, we’ll gather in the worship center for In His Presence—a quiet time to simply rest before the Lord. There’s no program\, no pressure—just space to be still\, pray\, and listen for His voice. Come and go as you need.
URL:https://landmark.church/event/in-his-presence-2/2027-05-04/
LOCATION:Landmark Church\, 1800 Halcyon Blvd\, Montgomery\, AL\, 36117\, United States
CATEGORIES:Online Lifelines
ATTACH;FMTTYPE=image/png:https://landmark.church/wp-content/uploads/2025/04/Yellow-and-White-Bold-Church-Service-Instagram-Post-1500-x-1500-px-4-x-3-in.png
END:VEVENT
BEGIN:VEVENT
DTSTART;TZID=America/Chicago:20270601T070000
DTEND;TZID=America/Chicago:20270601T083000
DTSTAMP:20260422T170138
CREATED:20250423T194803Z
LAST-MODIFIED:20260221T175413Z
UID:10000221-1811833200-1811838600@landmark.church
SUMMARY:In His Presence
DESCRIPTION:The first Tuesday of each month\, from 7:00 to 8:30\, we’ll gather in the worship center for In His Presence—a quiet time to simply rest before the Lord. There’s no program\, no pressure—just space to be still\, pray\, and listen for His voice. Come and go as you need.
URL:https://landmark.church/event/in-his-presence-2/2027-06-01/
LOCATION:Landmark Church\, 1800 Halcyon Blvd\, Montgomery\, AL\, 36117\, United States
CATEGORIES:Online Lifelines
ATTACH;FMTTYPE=image/png:https://landmark.church/wp-content/uploads/2025/04/Yellow-and-White-Bold-Church-Service-Instagram-Post-1500-x-1500-px-4-x-3-in.png
END:VEVENT
BEGIN:VEVENT
DTSTART;TZID=America/Chicago:20270706T070000
DTEND;TZID=America/Chicago:20270706T083000
DTSTAMP:20260422T170138
CREATED:20250423T194803Z
LAST-MODIFIED:20260221T175413Z
UID:10000222-1814857200-1814862600@landmark.church
SUMMARY:In His Presence
DESCRIPTION:The first Tuesday of each month\, from 7:00 to 8:30\, we’ll gather in the worship center for In His Presence—a quiet time to simply rest before the Lord. There’s no program\, no pressure—just space to be still\, pray\, and listen for His voice. Come and go as you need.
URL:https://landmark.church/event/in-his-presence-2/2027-07-06/
LOCATION:Landmark Church\, 1800 Halcyon Blvd\, Montgomery\, AL\, 36117\, United States
CATEGORIES:Online Lifelines
ATTACH;FMTTYPE=image/png:https://landmark.church/wp-content/uploads/2025/04/Yellow-and-White-Bold-Church-Service-Instagram-Post-1500-x-1500-px-4-x-3-in.png
END:VEVENT
BEGIN:VEVENT
DTSTART;TZID=America/Chicago:20270803T070000
DTEND;TZID=America/Chicago:20270803T083000
DTSTAMP:20260422T170138
CREATED:20250423T194803Z
LAST-MODIFIED:20260221T175413Z
UID:10000223-1817276400-1817281800@landmark.church
SUMMARY:In His Presence
DESCRIPTION:The first Tuesday of each month\, from 7:00 to 8:30\, we’ll gather in the worship center for In His Presence—a quiet time to simply rest before the Lord. There’s no program\, no pressure—just space to be still\, pray\, and listen for His voice. Come and go as you need.
URL:https://landmark.church/event/in-his-presence-2/2027-08-03/
LOCATION:Landmark Church\, 1800 Halcyon Blvd\, Montgomery\, AL\, 36117\, United States
CATEGORIES:Online Lifelines
ATTACH;FMTTYPE=image/png:https://landmark.church/wp-content/uploads/2025/04/Yellow-and-White-Bold-Church-Service-Instagram-Post-1500-x-1500-px-4-x-3-in.png
END:VEVENT
BEGIN:VEVENT
DTSTART;TZID=America/Chicago:20270907T070000
DTEND;TZID=America/Chicago:20270907T083000
DTSTAMP:20260422T170138
CREATED:20250423T194803Z
LAST-MODIFIED:20260221T175413Z
UID:10000224-1820300400-1820305800@landmark.church
SUMMARY:In His Presence
DESCRIPTION:The first Tuesday of each month\, from 7:00 to 8:30\, we’ll gather in the worship center for In His Presence—a quiet time to simply rest before the Lord. There’s no program\, no pressure—just space to be still\, pray\, and listen for His voice. Come and go as you need.
URL:https://landmark.church/event/in-his-presence-2/2027-09-07/
LOCATION:Landmark Church\, 1800 Halcyon Blvd\, Montgomery\, AL\, 36117\, United States
CATEGORIES:Online Lifelines
ATTACH;FMTTYPE=image/png:https://landmark.church/wp-content/uploads/2025/04/Yellow-and-White-Bold-Church-Service-Instagram-Post-1500-x-1500-px-4-x-3-in.png
END:VEVENT
BEGIN:VEVENT
DTSTART;TZID=America/Chicago:20271005T070000
DTEND;TZID=America/Chicago:20271005T083000
DTSTAMP:20260422T170138
CREATED:20250423T194803Z
LAST-MODIFIED:20260221T175413Z
UID:10000225-1822719600-1822725000@landmark.church
SUMMARY:In His Presence
DESCRIPTION:The first Tuesday of each month\, from 7:00 to 8:30\, we’ll gather in the worship center for In His Presence—a quiet time to simply rest before the Lord. There’s no program\, no pressure—just space to be still\, pray\, and listen for His voice. Come and go as you need.
URL:https://landmark.church/event/in-his-presence-2/2027-10-05/
LOCATION:Landmark Church\, 1800 Halcyon Blvd\, Montgomery\, AL\, 36117\, United States
CATEGORIES:Online Lifelines
ATTACH;FMTTYPE=image/png:https://landmark.church/wp-content/uploads/2025/04/Yellow-and-White-Bold-Church-Service-Instagram-Post-1500-x-1500-px-4-x-3-in.png
END:VEVENT
BEGIN:VEVENT
DTSTART;TZID=America/Chicago:20271102T070000
DTEND;TZID=America/Chicago:20271102T083000
DTSTAMP:20260422T170138
CREATED:20250423T194803Z
LAST-MODIFIED:20260221T175413Z
UID:10000226-1825138800-1825144200@landmark.church
SUMMARY:In His Presence
DESCRIPTION:The first Tuesday of each month\, from 7:00 to 8:30\, we’ll gather in the worship center for In His Presence—a quiet time to simply rest before the Lord. There’s no program\, no pressure—just space to be still\, pray\, and listen for His voice. Come and go as you need.
URL:https://landmark.church/event/in-his-presence-2/2027-11-02/
LOCATION:Landmark Church\, 1800 Halcyon Blvd\, Montgomery\, AL\, 36117\, United States
CATEGORIES:Online Lifelines
ATTACH;FMTTYPE=image/png:https://landmark.church/wp-content/uploads/2025/04/Yellow-and-White-Bold-Church-Service-Instagram-Post-1500-x-1500-px-4-x-3-in.png
END:VEVENT
BEGIN:VEVENT
DTSTART;TZID=America/Chicago:20271207T070000
DTEND;TZID=America/Chicago:20271207T083000
DTSTAMP:20260422T170138
CREATED:20250423T194803Z
LAST-MODIFIED:20260221T175413Z
UID:10000227-1828162800-1828168200@landmark.church
SUMMARY:In His Presence
DESCRIPTION:The first Tuesday of each month\, from 7:00 to 8:30\, we’ll gather in the worship center for In His Presence—a quiet time to simply rest before the Lord. There’s no program\, no pressure—just space to be still\, pray\, and listen for His voice. Come and go as you need.
URL:https://landmark.church/event/in-his-presence-2/2027-12-07/
LOCATION:Landmark Church\, 1800 Halcyon Blvd\, Montgomery\, AL\, 36117\, United States
CATEGORIES:Online Lifelines
ATTACH;FMTTYPE=image/png:https://landmark.church/wp-content/uploads/2025/04/Yellow-and-White-Bold-Church-Service-Instagram-Post-1500-x-1500-px-4-x-3-in.png
END:VEVENT
BEGIN:VEVENT
DTSTART;TZID=America/Chicago:20280104T070000
DTEND;TZID=America/Chicago:20280104T083000
DTSTAMP:20260422T170138
CREATED:20250423T194803Z
LAST-MODIFIED:20260221T175413Z
UID:10000228-1830582000-1830587400@landmark.church
SUMMARY:In His Presence
DESCRIPTION:The first Tuesday of each month\, from 7:00 to 8:30\, we’ll gather in the worship center for In His Presence—a quiet time to simply rest before the Lord. There’s no program\, no pressure—just space to be still\, pray\, and listen for His voice. Come and go as you need.
URL:https://landmark.church/event/in-his-presence-2/2028-01-04/
LOCATION:Landmark Church\, 1800 Halcyon Blvd\, Montgomery\, AL\, 36117\, United States
CATEGORIES:Online Lifelines
ATTACH;FMTTYPE=image/png:https://landmark.church/wp-content/uploads/2025/04/Yellow-and-White-Bold-Church-Service-Instagram-Post-1500-x-1500-px-4-x-3-in.png
END:VEVENT
BEGIN:VEVENT
DTSTART;TZID=America/Chicago:20280201T070000
DTEND;TZID=America/Chicago:20280201T083000
DTSTAMP:20260422T170138
CREATED:20250423T194803Z
LAST-MODIFIED:20260221T175413Z
UID:10000229-1833001200-1833006600@landmark.church
SUMMARY:In His Presence
DESCRIPTION:The first Tuesday of each month\, from 7:00 to 8:30\, we’ll gather in the worship center for In His Presence—a quiet time to simply rest before the Lord. There’s no program\, no pressure—just space to be still\, pray\, and listen for His voice. Come and go as you need.
URL:https://landmark.church/event/in-his-presence-2/2028-02-01/
LOCATION:Landmark Church\, 1800 Halcyon Blvd\, Montgomery\, AL\, 36117\, United States
CATEGORIES:Online Lifelines
ATTACH;FMTTYPE=image/png:https://landmark.church/wp-content/uploads/2025/04/Yellow-and-White-Bold-Church-Service-Instagram-Post-1500-x-1500-px-4-x-3-in.png
END:VEVENT
BEGIN:VEVENT
DTSTART;TZID=America/Chicago:20280307T070000
DTEND;TZID=America/Chicago:20280307T083000
DTSTAMP:20260422T170138
CREATED:20250423T194803Z
LAST-MODIFIED:20260221T175413Z
UID:10000230-1836025200-1836030600@landmark.church
SUMMARY:In His Presence
DESCRIPTION:The first Tuesday of each month\, from 7:00 to 8:30\, we’ll gather in the worship center for In His Presence—a quiet time to simply rest before the Lord. There’s no program\, no pressure—just space to be still\, pray\, and listen for His voice. Come and go as you need.
URL:https://landmark.church/event/in-his-presence-2/2028-03-07/
LOCATION:Landmark Church\, 1800 Halcyon Blvd\, Montgomery\, AL\, 36117\, United States
CATEGORIES:Online Lifelines
ATTACH;FMTTYPE=image/png:https://landmark.church/wp-content/uploads/2025/04/Yellow-and-White-Bold-Church-Service-Instagram-Post-1500-x-1500-px-4-x-3-in.png
END:VEVENT
BEGIN:VEVENT
DTSTART;TZID=America/Chicago:20280404T070000
DTEND;TZID=America/Chicago:20280404T083000
DTSTAMP:20260422T170138
CREATED:20250423T194803Z
LAST-MODIFIED:20260221T175413Z
UID:10000231-1838444400-1838449800@landmark.church
SUMMARY:In His Presence
DESCRIPTION:The first Tuesday of each month\, from 7:00 to 8:30\, we’ll gather in the worship center for In His Presence—a quiet time to simply rest before the Lord. There’s no program\, no pressure—just space to be still\, pray\, and listen for His voice. Come and go as you need.
URL:https://landmark.church/event/in-his-presence-2/2028-04-04/
LOCATION:Landmark Church\, 1800 Halcyon Blvd\, Montgomery\, AL\, 36117\, United States
CATEGORIES:Online Lifelines
ATTACH;FMTTYPE=image/png:https://landmark.church/wp-content/uploads/2025/04/Yellow-and-White-Bold-Church-Service-Instagram-Post-1500-x-1500-px-4-x-3-in.png
END:VEVENT
BEGIN:VEVENT
DTSTART;TZID=America/Chicago:20280502T070000
DTEND;TZID=America/Chicago:20280502T083000
DTSTAMP:20260422T170138
CREATED:20250423T194803Z
LAST-MODIFIED:20260221T175413Z
UID:10000232-1840863600-1840869000@landmark.church
SUMMARY:In His Presence
DESCRIPTION:The first Tuesday of each month\, from 7:00 to 8:30\, we’ll gather in the worship center for In His Presence—a quiet time to simply rest before the Lord. There’s no program\, no pressure—just space to be still\, pray\, and listen for His voice. Come and go as you need.
URL:https://landmark.church/event/in-his-presence-2/2028-05-02/
LOCATION:Landmark Church\, 1800 Halcyon Blvd\, Montgomery\, AL\, 36117\, United States
CATEGORIES:Online Lifelines
ATTACH;FMTTYPE=image/png:https://landmark.church/wp-content/uploads/2025/04/Yellow-and-White-Bold-Church-Service-Instagram-Post-1500-x-1500-px-4-x-3-in.png
END:VEVENT
BEGIN:VEVENT
DTSTART;TZID=America/Chicago:20280606T070000
DTEND;TZID=America/Chicago:20280606T083000
DTSTAMP:20260422T170138
CREATED:20250423T194803Z
LAST-MODIFIED:20260221T175413Z
UID:10000233-1843887600-1843893000@landmark.church
SUMMARY:In His Presence
DESCRIPTION:The first Tuesday of each month\, from 7:00 to 8:30\, we’ll gather in the worship center for In His Presence—a quiet time to simply rest before the Lord. There’s no program\, no pressure—just space to be still\, pray\, and listen for His voice. Come and go as you need.
URL:https://landmark.church/event/in-his-presence-2/2028-06-06/
LOCATION:Landmark Church\, 1800 Halcyon Blvd\, Montgomery\, AL\, 36117\, United States
CATEGORIES:Online Lifelines
ATTACH;FMTTYPE=image/png:https://landmark.church/wp-content/uploads/2025/04/Yellow-and-White-Bold-Church-Service-Instagram-Post-1500-x-1500-px-4-x-3-in.png
END:VEVENT
BEGIN:VEVENT
DTSTART;TZID=America/Chicago:20280704T070000
DTEND;TZID=America/Chicago:20280704T083000
DTSTAMP:20260422T170138
CREATED:20250423T194803Z
LAST-MODIFIED:20260221T175413Z
UID:10000234-1846306800-1846312200@landmark.church
SUMMARY:In His Presence
DESCRIPTION:The first Tuesday of each month\, from 7:00 to 8:30\, we’ll gather in the worship center for In His Presence—a quiet time to simply rest before the Lord. There’s no program\, no pressure—just space to be still\, pray\, and listen for His voice. Come and go as you need.
URL:https://landmark.church/event/in-his-presence-2/2028-07-04/
LOCATION:Landmark Church\, 1800 Halcyon Blvd\, Montgomery\, AL\, 36117\, United States
CATEGORIES:Online Lifelines
ATTACH;FMTTYPE=image/png:https://landmark.church/wp-content/uploads/2025/04/Yellow-and-White-Bold-Church-Service-Instagram-Post-1500-x-1500-px-4-x-3-in.png
END:VEVENT
END:VCALENDAR