BEGIN:VCALENDAR
VERSION:2.0
PRODID:-//Landmark - ECPv6.15.20//NONSGML v1.0//EN
CALSCALE:GREGORIAN
METHOD:PUBLISH
X-WR-CALNAME:Landmark
X-ORIGINAL-URL:https://landmark.church
X-WR-CALDESC:Events for Landmark
REFRESH-INTERVAL;VALUE=DURATION:PT1H
X-Robots-Tag:noindex
X-PUBLISHED-TTL:PT1H
BEGIN:VTIMEZONE
TZID:America/Chicago
BEGIN:DAYLIGHT
TZOFFSETFROM:-0600
TZOFFSETTO:-0500
TZNAME:CDT
DTSTART:20290311T080000
END:DAYLIGHT
BEGIN:STANDARD
TZOFFSETFROM:-0500
TZOFFSETTO:-0600
TZNAME:CST
DTSTART:20291104T070000
END:STANDARD
BEGIN:DAYLIGHT
TZOFFSETFROM:-0600
TZOFFSETTO:-0500
TZNAME:CDT
DTSTART:20300310T080000
END:DAYLIGHT
BEGIN:STANDARD
TZOFFSETFROM:-0500
TZOFFSETTO:-0600
TZNAME:CST
DTSTART:20301103T070000
END:STANDARD
BEGIN:DAYLIGHT
TZOFFSETFROM:-0600
TZOFFSETTO:-0500
TZNAME:CDT
DTSTART:20310309T080000
END:DAYLIGHT
BEGIN:STANDARD
TZOFFSETFROM:-0500
TZOFFSETTO:-0600
TZNAME:CST
DTSTART:20311102T070000
END:STANDARD
BEGIN:DAYLIGHT
TZOFFSETFROM:-0600
TZOFFSETTO:-0500
TZNAME:CDT
DTSTART:20320314T080000
END:DAYLIGHT
BEGIN:STANDARD
TZOFFSETFROM:-0500
TZOFFSETTO:-0600
TZNAME:CST
DTSTART:20321107T070000
END:STANDARD
END:VTIMEZONE
BEGIN:VEVENT
DTSTART;TZID=America/Chicago:20300903T070000
DTEND;TZID=America/Chicago:20300903T083000
DTSTAMP:20260421T182403
CREATED:20250423T194803Z
LAST-MODIFIED:20260221T175413Z
UID:10000260-1914649200-1914654600@landmark.church
SUMMARY:In His Presence
DESCRIPTION:The first Tuesday of each month\, from 7:00 to 8:30\, we’ll gather in the worship center for In His Presence—a quiet time to simply rest before the Lord. There’s no program\, no pressure—just space to be still\, pray\, and listen for His voice. Come and go as you need.
URL:https://landmark.church/event/in-his-presence-2/2030-09-03/
LOCATION:Landmark Church\, 1800 Halcyon Blvd\, Montgomery\, AL\, 36117\, United States
CATEGORIES:Online Lifelines
ATTACH;FMTTYPE=image/png:https://landmark.church/wp-content/uploads/2025/04/Yellow-and-White-Bold-Church-Service-Instagram-Post-1500-x-1500-px-4-x-3-in.png
END:VEVENT
BEGIN:VEVENT
DTSTART;TZID=America/Chicago:20301001T070000
DTEND;TZID=America/Chicago:20301001T083000
DTSTAMP:20260421T182403
CREATED:20250423T194803Z
LAST-MODIFIED:20260221T175413Z
UID:10000261-1917068400-1917073800@landmark.church
SUMMARY:In His Presence
DESCRIPTION:The first Tuesday of each month\, from 7:00 to 8:30\, we’ll gather in the worship center for In His Presence—a quiet time to simply rest before the Lord. There’s no program\, no pressure—just space to be still\, pray\, and listen for His voice. Come and go as you need.
URL:https://landmark.church/event/in-his-presence-2/2030-10-01/
LOCATION:Landmark Church\, 1800 Halcyon Blvd\, Montgomery\, AL\, 36117\, United States
CATEGORIES:Online Lifelines
ATTACH;FMTTYPE=image/png:https://landmark.church/wp-content/uploads/2025/04/Yellow-and-White-Bold-Church-Service-Instagram-Post-1500-x-1500-px-4-x-3-in.png
END:VEVENT
BEGIN:VEVENT
DTSTART;TZID=America/Chicago:20301105T070000
DTEND;TZID=America/Chicago:20301105T083000
DTSTAMP:20260421T182403
CREATED:20250423T194803Z
LAST-MODIFIED:20260221T175413Z
UID:10000262-1920092400-1920097800@landmark.church
SUMMARY:In His Presence
DESCRIPTION:The first Tuesday of each month\, from 7:00 to 8:30\, we’ll gather in the worship center for In His Presence—a quiet time to simply rest before the Lord. There’s no program\, no pressure—just space to be still\, pray\, and listen for His voice. Come and go as you need.
URL:https://landmark.church/event/in-his-presence-2/2030-11-05/
LOCATION:Landmark Church\, 1800 Halcyon Blvd\, Montgomery\, AL\, 36117\, United States
CATEGORIES:Online Lifelines
ATTACH;FMTTYPE=image/png:https://landmark.church/wp-content/uploads/2025/04/Yellow-and-White-Bold-Church-Service-Instagram-Post-1500-x-1500-px-4-x-3-in.png
END:VEVENT
BEGIN:VEVENT
DTSTART;TZID=America/Chicago:20301203T070000
DTEND;TZID=America/Chicago:20301203T083000
DTSTAMP:20260421T182403
CREATED:20250423T194803Z
LAST-MODIFIED:20260221T175413Z
UID:10000263-1922511600-1922517000@landmark.church
SUMMARY:In His Presence
DESCRIPTION:The first Tuesday of each month\, from 7:00 to 8:30\, we’ll gather in the worship center for In His Presence—a quiet time to simply rest before the Lord. There’s no program\, no pressure—just space to be still\, pray\, and listen for His voice. Come and go as you need.
URL:https://landmark.church/event/in-his-presence-2/2030-12-03/
LOCATION:Landmark Church\, 1800 Halcyon Blvd\, Montgomery\, AL\, 36117\, United States
CATEGORIES:Online Lifelines
ATTACH;FMTTYPE=image/png:https://landmark.church/wp-content/uploads/2025/04/Yellow-and-White-Bold-Church-Service-Instagram-Post-1500-x-1500-px-4-x-3-in.png
END:VEVENT
BEGIN:VEVENT
DTSTART;TZID=America/Chicago:20310107T070000
DTEND;TZID=America/Chicago:20310107T083000
DTSTAMP:20260421T182403
CREATED:20250423T194803Z
LAST-MODIFIED:20260221T175413Z
UID:10000264-1925535600-1925541000@landmark.church
SUMMARY:In His Presence
DESCRIPTION:The first Tuesday of each month\, from 7:00 to 8:30\, we’ll gather in the worship center for In His Presence—a quiet time to simply rest before the Lord. There’s no program\, no pressure—just space to be still\, pray\, and listen for His voice. Come and go as you need.
URL:https://landmark.church/event/in-his-presence-2/2031-01-07/
LOCATION:Landmark Church\, 1800 Halcyon Blvd\, Montgomery\, AL\, 36117\, United States
CATEGORIES:Online Lifelines
ATTACH;FMTTYPE=image/png:https://landmark.church/wp-content/uploads/2025/04/Yellow-and-White-Bold-Church-Service-Instagram-Post-1500-x-1500-px-4-x-3-in.png
END:VEVENT
BEGIN:VEVENT
DTSTART;TZID=America/Chicago:20310204T070000
DTEND;TZID=America/Chicago:20310204T083000
DTSTAMP:20260421T182403
CREATED:20250423T194803Z
LAST-MODIFIED:20260221T175413Z
UID:10000265-1927954800-1927960200@landmark.church
SUMMARY:In His Presence
DESCRIPTION:The first Tuesday of each month\, from 7:00 to 8:30\, we’ll gather in the worship center for In His Presence—a quiet time to simply rest before the Lord. There’s no program\, no pressure—just space to be still\, pray\, and listen for His voice. Come and go as you need.
URL:https://landmark.church/event/in-his-presence-2/2031-02-04/
LOCATION:Landmark Church\, 1800 Halcyon Blvd\, Montgomery\, AL\, 36117\, United States
CATEGORIES:Online Lifelines
ATTACH;FMTTYPE=image/png:https://landmark.church/wp-content/uploads/2025/04/Yellow-and-White-Bold-Church-Service-Instagram-Post-1500-x-1500-px-4-x-3-in.png
END:VEVENT
END:VCALENDAR